BEGIN:VCALENDAR
PRODID:-//PUBBLE//agenda//NL
VERSION:2.0
METHOD:PUBLISH
BEGIN:VEVENT
DTSTART:20260427T180000Z
DTEND:20260427T213000Z
DTSTAMP:20260420T133808Z
UID:92e77660-3a55-4827-9a63-1952c19f7aca
CREATED:20260420T133808Z
NAME:Koningsfeest in sportzaal Duyvesteyn Maasdam hetkompasonline.nl
X-WR-CALNAME:Koningsfeest in sportzaal Duyvesteyn Maasdam
X-ALT-DESC;FMTTYPE=text/html:<a href='/agenda/2026/4/27/koningsfeest-in-sportzaal-duyvesteyn-maasdam-224335'>/agenda/2026/4/27/koningsfeest-in-sportzaal-duyvesteyn-maasdam-224335</a> || <p>Na de dagfestiviteiten in en rondom sportzaal Duyvesteyn in Maasdam start vanaf 20:00 uur de Koningsfeestavond met optredens van maar liefst 2 bands met ieder hun eigen repertoire. Maak je klaar voor een avond vol energie, nostalgie en pure Rock ’n Roll in sportzaal Duyvesteyn in Maasdam. The Roustabouts zijn helemaal in hun element als het om rocken gaat – en dat hoor je. Met verve brengen ze hun set: rockend, swingend, shakend én met oog voor detail. En alsof dat nog niet genoeg is… Plaatstaal gooit er een flinke scheut Nederlandstalige pop tegenaan. Denk aan Doe Maar, Toontje Lager en meer van dat moois – pop in je moerstaal waar je niet stil bij kunt blijven staan. Gratis entree voor leden Oranjevereniging Pr. Irene Maasdam (max. 2 pers.) voor niet leden €5.</p>
DESCRIPTION:<a href='/agenda/2026/4/27/koningsfeest-in-sportzaal-duyvesteyn-maasdam-224335'>/agenda/2026/4/27/koningsfeest-in-sportzaal-duyvesteyn-maasdam-224335</a> || <p>Na de dagfestiviteiten in en rondom sportzaal Duyvesteyn in Maasdam start vanaf 20:00 uur de Koningsfeestavond met optredens van maar liefst 2 bands met ieder hun eigen repertoire. Maak je klaar voor een avond vol energie, nostalgie en pure Rock ’n Roll in sportzaal Duyvesteyn in Maasdam. The Roustabouts zijn helemaal in hun element als het om rocken gaat – en dat hoor je. Met verve brengen ze hun set: rockend, swingend, shakend én met oog voor detail. En alsof dat nog niet genoeg is… Plaatstaal gooit er een flinke scheut Nederlandstalige pop tegenaan. Denk aan Doe Maar, Toontje Lager en meer van dat moois – pop in je moerstaal waar je niet stil bij kunt blijven staan. Gratis entree voor leden Oranjevereniging Pr. Irene Maasdam (max. 2 pers.) voor niet leden €5.</p>
LAST-MODIFIED:20260420T133808Z
LOCATION: Sportzaal Duyvesteyn | Fazant 3 Maasdam
SEQUENCE:0
STATUS:CONFIRMED
SUMMARY:Koningsfeest in sportzaal Duyvesteyn Maasdam
TRANSP:OPAQUE
END:VEVENT
END:VCALENDAR
