BEGIN:VCALENDAR
PRODID:-//PUBBLE//agenda//NL
VERSION:2.0
METHOD:PUBLISH
BEGIN:VEVENT
DTSTART:20260420T105639Z
DTEND:20260510T140000Z
DTSTAMP:20260423T154557Z
UID:a5bfba95-8c91-4700-a329-94399a9edbad
CREATED:20260423T154557Z
NAME:Spirituele Beurs zondag 10 mei, Moederdag hetkompasonline.nl
X-WR-CALNAME:Spirituele Beurs zondag 10 mei, Moederdag
X-ALT-DESC;FMTTYPE=text/html:<a href='/agenda/2026/5/10/spirituele-beurs-zondag-10-mei-moederdag-224392'>/agenda/2026/5/10/spirituele-beurs-zondag-10-mei-moederdag-224392</a> || <p><span data-contrast="auto" lang="NL-NL">Mijnsheerenland – Op&nbsp;</span><span data-contrast="auto" lang="NL-NL">zondag 10 mei</span><span data-contrast="auto" lang="NL-NL">&nbsp;vindt in&nbsp;</span><span data-contrast="auto" lang="NL-NL">Het Dorpshart in Mijnsheerenland</span><span data-contrast="auto" lang="NL-NL">&nbsp;een spirituele beurs plaats. Tussen&nbsp;</span><span data-contrast="auto" lang="NL-NL">11.00 en 16.00 uur</span><span data-contrast="auto" lang="NL-NL">&nbsp;kunnen bezoekers kennismaken met diverse vormen van spiritualiteit, persoonlijke inzichten en bewustwording.</span><span data-ccp-props="{}">&nbsp;</span></p><p><span data-contrast="auto" lang="NL-NL">De Spirituele Beurs brengt verschillende spirituele disciplines samen, waaronder consulten door mediums,&nbsp;healers&nbsp;en paragnosten. De beurs is laagdrempelig opgezet en bedoeld voor zowel nieuwsgierige bezoekers als mensen die al langer interesse hebben in spiritualiteit.</span><span data-ccp-props="{}">&nbsp;</span></p><p><span data-contrast="auto" lang="NL-NL">Bezoekers kunnen onder andere terecht voor kaartleggingen,&nbsp;healing&nbsp;en bijzondere consultvormen zoals waterlezen en auratekeningen. Daarnaast is er een aanbod van spirituele producten, waaronder edelstenen en sieraden.</span><span data-contrast="auto" lang="NL-NL">&nbsp;De organisatie wil met de Spirituele Beurs een ontmoetingsplek creëren waar inspiratie, bewustwording en verbinding centraal staan.&nbsp;</span><span data-ccp-props="{}">&nbsp;</span></p><p><span data-contrast="auto" lang="NL-NL">De voorverkoop is al van start gegaan, je kunt online een kaartje bestellen via de website &nbsp;</span><a href="https://hipsy.nl/shop/189432-spirituele-beurs-mijnsheerenland" rel="noreferrer noopener" target="_blank"><span data-contrast="none" lang="NL-NL">https://hipsy.nl/shop/189432-spirituele-beurs-mijnsheerenland.</span></a><span data-ccp-props="{}">&nbsp;</span></p><p><span data-contrast="auto" lang="NL-NL">Wil je wat meer van de beurs weten dan is er een flyer beschikbaar via&nbsp;</span><a href="https://hipsy.nl/event/189432-spirituele-beurs-mijnsheerenland" rel="noreferrer noopener" target="_blank"><span data-contrast="none" lang="NL-NL">https://hipsy.nl/event/189432-spirituele-beurs-mijnsheerenland</span></a><span data-contrast="auto" lang="NL-NL">.</span><span data-ccp-props="{}">&nbsp;</span></p><p><span data-contrast="auto" lang="NL-NL">Er is een evenement op onder de naam spirituele beurs Facebook &nbsp; aangemaakt. Ook is de flyer te vinden op Facebook groep Workshops en evenementen Hoeksche Waard en omstreken, spirituele beurzen en andere diverse Facebook pagina’s. &nbsp;</span><span data-ccp-props="{}">&nbsp;</span></p><p><a href="https://www.visithw.nl/nl/uitagenda?calendar_range=&amp;search=spirituele+beurs&amp;sort=calendar&amp;order=desc" rel="noreferrer noopener" target="_blank"><span data-contrast="none" lang="NL-NL">Bekijk de UITagenda | Visit Hoeksche Waard.</span></a><span data-ccp-props="{}">&nbsp;</span></p><p><span data-ccp-props="{}"></span><span data-contrast="auto" lang="NL-NL">Kosten: online voorverkoop €5,- aan de deur €7,50,- niet iedereen kan met pin betalen, neem voldoende contant geld mee.</span><span data-ccp-props="{}">&nbsp;</span></p><p><span data-ccp-props="{}">&nbsp;</span></p>
DESCRIPTION:<a href='/agenda/2026/5/10/spirituele-beurs-zondag-10-mei-moederdag-224392'>/agenda/2026/5/10/spirituele-beurs-zondag-10-mei-moederdag-224392</a> || <p><span data-contrast="auto" lang="NL-NL">Mijnsheerenland – Op&nbsp;</span><span data-contrast="auto" lang="NL-NL">zondag 10 mei</span><span data-contrast="auto" lang="NL-NL">&nbsp;vindt in&nbsp;</span><span data-contrast="auto" lang="NL-NL">Het Dorpshart in Mijnsheerenland</span><span data-contrast="auto" lang="NL-NL">&nbsp;een spirituele beurs plaats. Tussen&nbsp;</span><span data-contrast="auto" lang="NL-NL">11.00 en 16.00 uur</span><span data-contrast="auto" lang="NL-NL">&nbsp;kunnen bezoekers kennismaken met diverse vormen van spiritualiteit, persoonlijke inzichten en bewustwording.</span><span data-ccp-props="{}">&nbsp;</span></p><p><span data-contrast="auto" lang="NL-NL">De Spirituele Beurs brengt verschillende spirituele disciplines samen, waaronder consulten door mediums,&nbsp;healers&nbsp;en paragnosten. De beurs is laagdrempelig opgezet en bedoeld voor zowel nieuwsgierige bezoekers als mensen die al langer interesse hebben in spiritualiteit.</span><span data-ccp-props="{}">&nbsp;</span></p><p><span data-contrast="auto" lang="NL-NL">Bezoekers kunnen onder andere terecht voor kaartleggingen,&nbsp;healing&nbsp;en bijzondere consultvormen zoals waterlezen en auratekeningen. Daarnaast is er een aanbod van spirituele producten, waaronder edelstenen en sieraden.</span><span data-contrast="auto" lang="NL-NL">&nbsp;De organisatie wil met de Spirituele Beurs een ontmoetingsplek creëren waar inspiratie, bewustwording en verbinding centraal staan.&nbsp;</span><span data-ccp-props="{}">&nbsp;</span></p><p><span data-contrast="auto" lang="NL-NL">De voorverkoop is al van start gegaan, je kunt online een kaartje bestellen via de website &nbsp;</span><a href="https://hipsy.nl/shop/189432-spirituele-beurs-mijnsheerenland" rel="noreferrer noopener" target="_blank"><span data-contrast="none" lang="NL-NL">https://hipsy.nl/shop/189432-spirituele-beurs-mijnsheerenland.</span></a><span data-ccp-props="{}">&nbsp;</span></p><p><span data-contrast="auto" lang="NL-NL">Wil je wat meer van de beurs weten dan is er een flyer beschikbaar via&nbsp;</span><a href="https://hipsy.nl/event/189432-spirituele-beurs-mijnsheerenland" rel="noreferrer noopener" target="_blank"><span data-contrast="none" lang="NL-NL">https://hipsy.nl/event/189432-spirituele-beurs-mijnsheerenland</span></a><span data-contrast="auto" lang="NL-NL">.</span><span data-ccp-props="{}">&nbsp;</span></p><p><span data-contrast="auto" lang="NL-NL">Er is een evenement op onder de naam spirituele beurs Facebook &nbsp; aangemaakt. Ook is de flyer te vinden op Facebook groep Workshops en evenementen Hoeksche Waard en omstreken, spirituele beurzen en andere diverse Facebook pagina’s. &nbsp;</span><span data-ccp-props="{}">&nbsp;</span></p><p><a href="https://www.visithw.nl/nl/uitagenda?calendar_range=&amp;search=spirituele+beurs&amp;sort=calendar&amp;order=desc" rel="noreferrer noopener" target="_blank"><span data-contrast="none" lang="NL-NL">Bekijk de UITagenda | Visit Hoeksche Waard.</span></a><span data-ccp-props="{}">&nbsp;</span></p><p><span data-ccp-props="{}"></span><span data-contrast="auto" lang="NL-NL">Kosten: online voorverkoop €5,- aan de deur €7,50,- niet iedereen kan met pin betalen, neem voldoende contant geld mee.</span><span data-ccp-props="{}">&nbsp;</span></p><p><span data-ccp-props="{}">&nbsp;</span></p>
LAST-MODIFIED:20260423T154557Z
LOCATION: Dorpshart |   Mijnsheerenland
SEQUENCE:0
STATUS:CONFIRMED
SUMMARY:Spirituele Beurs zondag 10 mei, Moederdag
TRANSP:OPAQUE
END:VEVENT
END:VCALENDAR
