BEGIN:VCALENDAR
PRODID:-//PUBBLE//agenda//NL
VERSION:2.0
METHOD:PUBLISH
BEGIN:VEVENT
DTSTART:20230311T174500Z
DTEND:20230311T203000Z
DTSTAMP:20260421T181807Z
UID:f1fbface-edd8-4ab0-9c3d-3ef17dd315bd
CREATED:20260421T181807Z
NAME:MaasMuziek meets hetkompasonline.nl
X-WR-CALNAME:MaasMuziek meets
X-ALT-DESC;FMTTYPE=text/html:<a href='/agenda/2023/3/11/maasmuziek-meets-171667'>/agenda/2023/3/11/maasmuziek-meets-171667</a> || <p>Zaterdag 11 maart a.s. organiseert MaasMuziek een nieuwe muzikale ontmoeting tijdens hun concertreeks MaasMuziek meets. Het harmonieorkest van Het Geklank des Konings o.l.v. Niels Verbeek uit Zwijndrecht zal de Oude Maas oversteken voor een gezamenlijk concert met het harmonieorkest van MaasMuziek o.l.v. Henk Zwijgers uit Puttershoek. Op het programma staat een variatie van mooie concert werken.</p><p>Het is niet de eerste uitwisseling van deze 2 mooie orkesten, gescheiden door de Oude Maas. Het is alweer 25 jaar geleden dat er een gezamenlijk concert is geweest, dit concert is dus een nieuwe ontmoeting die veel te lang op zich heeft laten wachten.</p><p>MaasMuziek meets &nbsp;zal op 11 maart a.s. plaatsvinden in de Gereformeerde Kerk, Rembrandstraat 1 in Puttershoek. Het concert begint om 19.45 uur, de entree bedraagt Eur 7,50.</p>
DESCRIPTION:<a href='/agenda/2023/3/11/maasmuziek-meets-171667'>/agenda/2023/3/11/maasmuziek-meets-171667</a> || <p>Zaterdag 11 maart a.s. organiseert MaasMuziek een nieuwe muzikale ontmoeting tijdens hun concertreeks MaasMuziek meets. Het harmonieorkest van Het Geklank des Konings o.l.v. Niels Verbeek uit Zwijndrecht zal de Oude Maas oversteken voor een gezamenlijk concert met het harmonieorkest van MaasMuziek o.l.v. Henk Zwijgers uit Puttershoek. Op het programma staat een variatie van mooie concert werken.</p><p>Het is niet de eerste uitwisseling van deze 2 mooie orkesten, gescheiden door de Oude Maas. Het is alweer 25 jaar geleden dat er een gezamenlijk concert is geweest, dit concert is dus een nieuwe ontmoeting die veel te lang op zich heeft laten wachten.</p><p>MaasMuziek meets &nbsp;zal op 11 maart a.s. plaatsvinden in de Gereformeerde Kerk, Rembrandstraat 1 in Puttershoek. Het concert begint om 19.45 uur, de entree bedraagt Eur 7,50.</p>
LAST-MODIFIED:20260421T181807Z
LOCATION: Gereformeerde kerk | Rembrandtstraat 1 Puttershoek
SEQUENCE:0
STATUS:CONFIRMED
SUMMARY:MaasMuziek meets
TRANSP:OPAQUE
END:VEVENT
END:VCALENDAR
