BEGIN:VCALENDAR
PRODID:-//PUBBLE//agenda//NL
VERSION:2.0
METHOD:PUBLISH
BEGIN:VEVENT
DTSTART:20230520T070000Z
DTEND:20230520T150000Z
DTSTAMP:20260421T183913Z
UID:322c5379-5f65-4ed1-8b78-2e491487e306
CREATED:20260421T183913Z
NAME:Zaterdag 20 Mei - Brocante Markt Klein Frankrijk hetkompasonline.nl
X-WR-CALNAME:Zaterdag 20 Mei - Brocante Markt Klein Frankrijk
X-ALT-DESC;FMTTYPE=text/html:<a href='/agenda/2023/5/20/zaterdag-20-mei-brocante-markt-klein-frankrijk-174936'>/agenda/2023/5/20/zaterdag-20-mei-brocante-markt-klein-frankrijk-174936</a> || <p>Op het evenemententerrein van Recreatieoord Binnenmaas wordt voor de 11e keer een brocante markt georganiseerd. Brocante liefhebbers kunnen hun hart ophalen. Ruim 200 deelnemers tonen hun mooiste schatten en unieke vondsten. Het aanbod varieert van antiek tot brocante, vintage meubelen, verzamelingen en streekproducten. Bezoekers kunnen heerlijk struinen en genieten van culinaire versnaperingen bij de Foodtrucks. Een muzikant speelt al wandelend over de markt gezellige Franse chansons. Kom een kijkje nemen en proef de sfeer! SCHRIJF 20 MEI IN JE AGENDA! Voor meer informatie: https://www.brocantemarktkleinfrankrijk.nl/.</p><p>De entree bedraagt 5,00 inclusief parkeren&nbsp;</p><p>Kinderen tot 10 jaar gratis&nbsp;</p><p>De markt is geopend van 9:00 tot 17:00 uur&nbsp;</p><p>Locatie:&nbsp;</p><p>Recreatieoord Binnenmaas&nbsp;</p><p>Vrouwehuisjesweg 1&nbsp;</p><p>3271 LX Mijnsheerenland&nbsp;</p>
DESCRIPTION:<a href='/agenda/2023/5/20/zaterdag-20-mei-brocante-markt-klein-frankrijk-174936'>/agenda/2023/5/20/zaterdag-20-mei-brocante-markt-klein-frankrijk-174936</a> || <p>Op het evenemententerrein van Recreatieoord Binnenmaas wordt voor de 11e keer een brocante markt georganiseerd. Brocante liefhebbers kunnen hun hart ophalen. Ruim 200 deelnemers tonen hun mooiste schatten en unieke vondsten. Het aanbod varieert van antiek tot brocante, vintage meubelen, verzamelingen en streekproducten. Bezoekers kunnen heerlijk struinen en genieten van culinaire versnaperingen bij de Foodtrucks. Een muzikant speelt al wandelend over de markt gezellige Franse chansons. Kom een kijkje nemen en proef de sfeer! SCHRIJF 20 MEI IN JE AGENDA! Voor meer informatie: https://www.brocantemarktkleinfrankrijk.nl/.</p><p>De entree bedraagt 5,00 inclusief parkeren&nbsp;</p><p>Kinderen tot 10 jaar gratis&nbsp;</p><p>De markt is geopend van 9:00 tot 17:00 uur&nbsp;</p><p>Locatie:&nbsp;</p><p>Recreatieoord Binnenmaas&nbsp;</p><p>Vrouwehuisjesweg 1&nbsp;</p><p>3271 LX Mijnsheerenland&nbsp;</p>
LAST-MODIFIED:20260421T183913Z
LOCATION: Recreatieoord Binnenmaas | Vrouwehuisjesweg 1 Mijnsheerenland
SEQUENCE:0
STATUS:CONFIRMED
SUMMARY:Zaterdag 20 Mei - Brocante Markt Klein Frankrijk
TRANSP:OPAQUE
END:VEVENT
END:VCALENDAR
